BEGIN:VCALENDAR
VERSION:2.0
PRODID:-//Language and Applied Research Center - ECPv6.15.20//NONSGML v1.0//EN
CALSCALE:GREGORIAN
METHOD:PUBLISH
X-WR-CALNAME:Language and Applied Research Center
X-ORIGINAL-URL:https://larc.sdsu.edu
X-WR-CALDESC:Events for Language and Applied Research Center
REFRESH-INTERVAL;VALUE=DURATION:PT1H
X-Robots-Tag:noindex
X-PUBLISHED-TTL:PT1H
BEGIN:VTIMEZONE
TZID:UTC
BEGIN:STANDARD
TZOFFSETFROM:+0000
TZOFFSETTO:+0000
TZNAME:UTC
DTSTART:20250101T000000
END:STANDARD
END:VTIMEZONE
BEGIN:VEVENT
DTSTART;VALUE=DATE:20260430
DTEND;VALUE=DATE:20260501
DTSTAMP:20260425T153612
CREATED:20260317T184802Z
LAST-MODIFIED:20260317T184802Z
UID:18825-1777507200-1777593599@larc.sdsu.edu
SUMMARY:ELLA Award Nominations
DESCRIPTION:The Excellence in Less Commonly Taught Languages Award (ELLA) recognizes outstanding educators who demonstrate innovation\, impact\, and commitment to teaching less commonly taught languages (LCTLs) across diverse educational settings. The LCTLs comprise all languages other than English\, French\, German\, and Spanish\, which were/are taught widely in mainly Western contexts. \nThe award highlights educators whose work strengthens language learning\, cultural understanding\, and community engagement and elevates the visibility of LCTL instruction from K–12 through to adult education. LCTL educators work in different educational contexts\, such as community-based schools and programs (heritage language schools\, nonprofit organizations\, cultural centers\, and other community-driven educational settings)\, K–12 schools (in-school or after-school programs)\, higher education\, and adult education. \nThis inaugural award reflects SAILN’s long-standing commitment to advancing equitable access to high-quality language education and supporting educators whose work strengthens multilingual communities.
URL:https://larc.sdsu.edu/event/ella-award-nominations/
CATEGORIES:SAILN
ATTACH;FMTTYPE=image/png:https://larc.sdsu.edu/wp-content/uploads/sites/6/2026/03/ELLA-Announcement-.png
END:VEVENT
END:VCALENDAR